BEGIN:VCALENDAR
VERSION:2.0
PRODID:-//wp-events-plugin.com//7.2.3.1//EN
TZID:Europe/Berlin
X-WR-TIMEZONE:Europe/Berlin
BEGIN:VEVENT
UID:195@sportverein-lipperbruch.de
DTSTART;TZID=Europe/Berlin:20260322T000000
DTEND;TZID=Europe/Berlin:20260712T000000
DTSTAMP:20260223T231738Z
URL:https://sportverein-lipperbruch.de/events/bezirksliga-luftgewehr-aufla
 ge/
SUMMARY:Bezirksliga Luftgewehr-Auflage
DESCRIPTION:Endtermine und Spielplan Gruppe C:\n\n\n 	Endtermin: 05. April 
 2026  Lipperbruch II  wettkampffrei\n 	Endtermin: 26. April 2026  Lippe
 rbruch II  - Overberge I\n 	Endtermin: 24. Mai 2026    Rhynern I  -  
 Lipperbruch II\n 	Endtermin: 21. Juni 2026    Lipperbruch II  -  Heess
 en I\n 	Endtermin: 05. Juli 2026     Cappel I  -  Lipperbruch II\n\nL
 igafinale: 12. Juli 2026\n\n 
CATEGORIES:Sportschützen
END:VEVENT
BEGIN:VTIMEZONE
TZID:Europe/Berlin
X-LIC-LOCATION:Europe/Berlin
BEGIN:STANDARD
DTSTART:20251026T020000
TZOFFSETFROM:+0200
TZOFFSETTO:+0100
TZNAME:CET
END:STANDARD
BEGIN:DAYLIGHT
DTSTART:20260329T030000
TZOFFSETFROM:+0100
TZOFFSETTO:+0200
TZNAME:CEST
END:DAYLIGHT
END:VTIMEZONE
END:VCALENDAR