BEGIN:VCALENDAR
VERSION:2.0
PRODID:-//wp-events-plugin.com//7.2.3.1//EN
TZID:Europe/Berlin
X-WR-TIMEZONE:Europe/Berlin
BEGIN:VEVENT
UID:184@sportverein-lipperbruch.de
DTSTART;TZID=Europe/Berlin:20260710T190000
DTEND;TZID=Europe/Berlin:20260710T203000
DTSTAMP:20260111T141315Z
URL:https://sportverein-lipperbruch.de/events/generalversammlung-2/
SUMMARY:Generalversammlung
DESCRIPTION:
CATEGORIES:Allgemein
LOCATION:Sportheim\, Richthofenstraße 23\, Lippstadt\, NRW\, 59558\, Deuts
 chland
X-APPLE-STRUCTURED-LOCATION;VALUE=URI;X-ADDRESS=Richthofenstraße 23\, Lipp
 stadt\, NRW\, 59558\, Deutschland;X-APPLE-RADIUS=100;X-TITLE=Sportheim:geo
 :0,0
END:VEVENT
BEGIN:VTIMEZONE
TZID:Europe/Berlin
X-LIC-LOCATION:Europe/Berlin
BEGIN:DAYLIGHT
DTSTART:20260329T030000
TZOFFSETFROM:+0100
TZOFFSETTO:+0200
TZNAME:CEST
END:DAYLIGHT
END:VTIMEZONE
END:VCALENDAR