BEGIN:VCALENDAR
VERSION:2.0
PRODID:-//wp-events-plugin.com//7.2.3.1//EN
TZID:Europe/Berlin
X-WR-TIMEZONE:Europe/Berlin
BEGIN:VEVENT
UID:182@sportverein-lipperbruch.de
DTSTART;TZID=Europe/Berlin:20261108T100000
DTEND;TZID=Europe/Berlin:20261108T160000
DTSTAMP:20260111T141151Z
URL:https://sportverein-lipperbruch.de/events/wandern-2026-01-11-2026-02-0
 8-2026-03-08-2026-04-12-2026-05-10-2026-06-14-2026-07-12-2026-08-09-2026-0
 9-13-2026-10-11-2026-11-08/
SUMMARY:Wandern
DESCRIPTION:
CATEGORIES:Ski
END:VEVENT
BEGIN:VTIMEZONE
TZID:Europe/Berlin
X-LIC-LOCATION:Europe/Berlin
BEGIN:STANDARD
DTSTART:20261025T020000
TZOFFSETFROM:+0200
TZOFFSETTO:+0100
TZNAME:CET
END:STANDARD
END:VTIMEZONE
END:VCALENDAR