BEGIN:VCALENDAR
VERSION:2.0
PRODID:-//wp-events-plugin.com//7.2.3.1//EN
TZID:Europe/Berlin
X-WR-TIMEZONE:Europe/Berlin
BEGIN:VEVENT
UID:196@sportverein-lipperbruch.de
DTSTART;TZID=Europe/Berlin:20260614T090000
DTEND;TZID=Europe/Berlin:20260614T170000
DTSTAMP:20260325T210841Z
URL:https://sportverein-lipperbruch.de/events/westfalenliga-luftgewehr-auf
 lage-3/
SUMMARY:Westfalenliga Luftgewehr Auflage
DESCRIPTION:im Schießheim Lipperbruch\n\nWettkämpfe:\n10.00 Uhr  Lipperb
 ruch  -  Westerwiehe\n11.30 Uhr   Brakel  -  Wanne Eickel\n14.00 Uhr
   Wanne Eickel  -  Westerwiehe\n15.30 Uhr  Brakel  -  Lipperbruch
CATEGORIES:Sportschützen
END:VEVENT
BEGIN:VTIMEZONE
TZID:Europe/Berlin
X-LIC-LOCATION:Europe/Berlin
BEGIN:DAYLIGHT
DTSTART:20260329T030000
TZOFFSETFROM:+0100
TZOFFSETTO:+0200
TZNAME:CEST
END:DAYLIGHT
END:VTIMEZONE
END:VCALENDAR